BEGIN:VCALENDAR
VERSION:2.0
PRODID:icalendar-ruby
CALSCALE:GREGORIAN
METHOD:PUBLISH
BEGIN:VEVENT
DTSTAMP:20260421T112609Z
UID:161-696555@bethanylc.com
DTSTART:20250316T134500Z
DTEND:20250316T150000Z
CLASS:PUBLIC
CREATED:20250310T094315
DESCRIPTION:\nOur Sunday School program offers a wonderful opportunity for 
 kids to dive into Bible stories and enjoy engaging activities with their f
 riends. \nSunday School starts at 8:45 a.m. on Sundays. Families will bri
 ng students downstairs to the community room\, where we will gather for a 
 large group session. Students will participate in opening activities and m
 usic before breaking into age-specific classrooms for Bible literacy\, sma
 ll group discussions\, and extended activities.\nMidway through the servic
 e\, classes will join the congregation for the Children’s Sermon and fin
 ish worship with their families. Some "high holiday" Sundays students will
  attend the entire service.\n
LAST-MODIFIED:20250310T094315
LOCATION:
SUMMARY:Sunday School
URL;VALUE=URI:https://www.bethanylc.com/events/sunday-school--161/2025-03-1
 6
ATTACH;FILENAME=IMG_1298.JPG;FMTTYPE=image/jpeg:https://dq5pwpg1q8ru0.cloud
 front.net/2024/08/12/19/56/57/ccd44253-7af8-4278-8ddf-74c401db8a17/IMG_129
 8.JPG
END:VEVENT
END:VCALENDAR
