BEGIN:VCALENDAR
VERSION:2.0
PRODID:icalendar-ruby
CALSCALE:GREGORIAN
METHOD:PUBLISH
BEGIN:VEVENT
DTSTAMP:20260424T230655Z
UID:10-2437034@bethanylc.com
DTSTART:20261001T140000Z
DTEND:20261001T170000Z
CLASS:PUBLIC
CREATED:20260424T172849
DESCRIPTION:Piecers gathers every Thursday from 9 AM to 12 PM to create qui
 lts for Lutheran World Relief. No sewing skills are required—there are v
 arious roles in the quilt-making process! We also welcome members who want
  to sew squares together\, which can be done from home. Join us in this fu
 lfilling project!
LAST-MODIFIED:20260424T172849
LOCATION:Bethany Lutheran Church
SUMMARY:Piecers - Quilting Group
URL;VALUE=URI:https://www.bethanylc.com/events/piecers-quilting-group/2026-
 10-01
ATTACH;FILENAME=IMG_0149.jpg;FMTTYPE=image/jpeg:https://dq5pwpg1q8ru0.cloud
 front.net/2025/10/03/16/07/40/1743c931-16c6-4991-bd04-464a304611fd/IMG_014
 9.jpg
END:VEVENT
END:VCALENDAR
